BEGIN:VCALENDAR
VERSION:2.0
PRODID:-//Happy Smile Education - ECPv6.15.20//NONSGML v1.0//EN
CALSCALE:GREGORIAN
METHOD:PUBLISH
X-WR-CALNAME:Happy Smile Education
X-ORIGINAL-URL:https://happysmile.education
X-WR-CALDESC:Мероприятия для Happy Smile Education
REFRESH-INTERVAL;VALUE=DURATION:PT1H
X-Robots-Tag:noindex
X-PUBLISHED-TTL:PT1H
BEGIN:VTIMEZONE
TZID:Europe/Moscow
BEGIN:STANDARD
TZOFFSETFROM:+0300
TZOFFSETTO:+0300
TZNAME:MSK
DTSTART:20230101T000000
END:STANDARD
END:VTIMEZONE
BEGIN:VEVENT
DTSTART;TZID=Europe/Moscow:20240607T100000
DTEND;TZID=Europe/Moscow:20240608T180000
DTSTAMP:20260422T004146
CREATED:20221016T114012Z
LAST-MODIFIED:20240220T223734Z
UID:2954-1717754400-1717869600@happysmile.education
SUMMARY:ОРТОДОНТ + АРТИКУЛЯТОР
DESCRIPTION:Лектор — Наталия Апачиди \nПрограмма:\nТеория:\n✅ Принципы диагностики в концепции философии FACE;\n✅ Понятия СО и СR;\n✅ Центральное соотношение челюстей — зачем определять?!\n✅ Малый функциональный анализ и работа с MPI и др.! \nНа практике вы научитесь:\n✅ работать с артикулятором;\n✅ определять центральное соотношение;\n✅ работать с лицевой дугой;\n✅ интерпретировать полученные результаты и планировать лечение! \nНа практической части к каждой паре участников будет прикреплён опытный ассистент\, который будет помогать на всех этапах работы.\nИ\, да\, артикуляторов хватит всем. \nСТОИМОСТЬ УЧАСТИЯ: 73.800 рублей. \nЕсть возможность отдельного посещения теоретического дня ( 23.000 руб. ) и практического дня ( 59.000 руб. ) \nДополнительные скидки не распространяются. \nПодробнее о мероприятии по ссылке.
URL:https://happysmile.education/event/%d0%be%d1%80%d1%82%d0%be%d0%b4%d0%be%d0%bd%d1%82-%d0%b0%d1%80%d1%82%d0%b8%d0%ba%d1%83%d0%bb%d1%8f%d1%82%d0%be%d1%80/
LOCATION:Офис Demos Büro\, Набережная реки Мойки\, д. 37\, Санкт-Петербург\, Ленинградская область\, 191186
CATEGORIES:ВНЧС,Все мероприятия,Ортодонтия,Практические курсы
ATTACH;FMTTYPE=image/jpeg:https://happysmile.education/wp-content/uploads/2022/10/msg498358970-60997.jpg
ORGANIZER;CN="Happy smile education":MAILTO:smile@pumpagroup.ru
END:VEVENT
BEGIN:VEVENT
DTSTART;TZID=Europe/Moscow:20240522T100000
DTEND;TZID=Europe/Moscow:20240522T140000
DTSTAMP:20260422T004146
CREATED:20240227T232827Z
LAST-MODIFIED:20240227T232827Z
UID:3636-1716372000-1716386400@happysmile.education
SUMMARY:Остеопатия в ортодонтии. Завтрак с Пумпой
DESCRIPTION:Лекторы: \nНаталия Апачиди\nВероника Гареева — Врач-остеопат многопрофильной стоматологии Демос в Санкт-Петербурге\, Преподаватель краниального раздела остеопатии в Северо-западной академии остеопатии и медицинской психологии. \nПосещение БЕСПЛАТНОЕ. Количество мест ограничено!
URL:https://happysmile.education/event/%d0%be%d1%81%d1%82%d0%b5%d0%be%d0%bf%d0%b0%d1%82%d0%b8%d1%8f-%d0%b2-%d0%be%d1%80%d1%82%d0%be%d0%b4%d0%be%d0%bd%d1%82%d0%b8%d0%b8-%d0%b7%d0%b0%d0%b2%d1%82%d1%80%d0%b0%d0%ba-%d1%81-%d0%bf%d1%83%d0%bc/
LOCATION:Офис Demos Büro\, Набережная реки Мойки\, д. 37\, Санкт-Петербург\, Ленинградская область\, 191186
CATEGORIES:ВНЧС,Все мероприятия,Междисциплинарное лечение,Ортодонтия,Практические курсы
ATTACH;FMTTYPE=image/png:https://happysmile.education/wp-content/uploads/2024/02/569E82C2-2B50-4364-B823-35B05DFDCC3C.png
ORGANIZER;CN="Happy smile education":MAILTO:smile@pumpagroup.ru
END:VEVENT
BEGIN:VEVENT
DTSTART;TZID=Europe/Moscow:20240423T100000
DTEND;TZID=Europe/Moscow:20240424T180000
DTSTAMP:20260422T004146
CREATED:20221211T224234Z
LAST-MODIFIED:20240116T002958Z
UID:3155-1713866400-1713981600@happysmile.education
SUMMARY:Курс "Сплинт-терапия для стабилизации нижней челюсти"
DESCRIPTION:✅Понятие центрального соотношения и центральной окклюзии. Взаимосвязь патологии прикуса и дисфункции ВНЧС \n✅Функционирование ВНЧС в норме и при патологии \n✅Понятие ортопедической стабильности и ее роль в функционировании зубо-челюстной системы \n✅Роль и задачи стабилизации ВНЧС в рамках ортодонтического лечения и стоматологической реабилитации в целом \n✅Виды сплинтов\, показания к применению в различных клинических ситуациях \n✅Клинико-лабораторные этапы изготовления окклюзионного сплинта в концепции FACE \n✅Припасовка сплинта при первичном визите. Протокол ведения пациента во время сплинт-терапии в зависимости от изменений клинической картины \n✅Роль и задачи стабилизации окклюзии после сплинт-терапии – ортодонтическое лечение или ортопедическая реконструкция окклюзии? \n  \nЛектор Наталия Апачиди — практикующий врач-ортодонт\, клиницист с опытом более 20 лет\, выпускница двухгодичного курса FACE\, главврач МЦ Демос и ген.директор представительства ГК Пумпа в СПБ. Обучение и стажировка в клинике Бьерна Людвига (г. Трабен-Трарбах\, Германия)\, в клинике «Studio Cacciafesta» (Италия\, Милан)\, Ренато Коккони (Парма\, Милан).\nПоследние несколько лет руководит медицинским центром\, имеющим в своем арсенале самое современное диагностическое и лечебное оборудование\, предназначенное для полной стоматологической реабилитации пациентов. Прошла более 50 курсов и практик в России и за рубежом. \nЛектор Екатерина Тищенко — врач-стоматолог\, ортодонт\, гнатолог. Сотрудник и преподаватель кафедры стоматологии общей практики СЗГМУ им. И.И. Мечникова по учебной работе\, врач-стоматолог\, ортодонт\, гнатолог.\nС 2011 по 2015 гг. проходила обучение в Steinbeis University Berlin на базе Steibeis Transfer Institut Biomedical Interdisciplinary Dentistry\, г. Штуттгарт\, Германия. Автор и соавтор научных публикаций и методических пособий. Постоянно повышает свою квалификацию\, учась у лучших зарубежных и отечественных специалистов. \n  \nСтоимость участия 72 000 руб. \n  \nСкидки для компаний от 2х человек-10%\, от 3х-15%\, студентам и ординаторам -15% \n\nБолее подробно по тел. +7 (812) 309-95-22 или +7 909-580-60-80 WhatsApp\, Telegram
URL:https://happysmile.education/event/%d0%ba%d1%83%d1%80%d1%81-%d1%81%d0%bf%d0%bb%d0%b8%d0%bd%d1%82-%d1%82%d0%b5%d1%80%d0%b0%d0%bf%d0%b8%d1%8f-%d0%b4%d0%bb%d1%8f-%d1%81%d1%82%d0%b0%d0%b1%d0%b8%d0%bb%d0%b8%d0%b7%d0%b0%d1%86%d0%b8%d0%b8/
LOCATION:Офис Demos Büro\, Набережная реки Мойки\, д. 37\, Санкт-Петербург\, Ленинградская область\, 191186
CATEGORIES:ВНЧС,Ортодонтия
ATTACH;FMTTYPE=image/jpeg:https://happysmile.education/wp-content/uploads/2022/12/photo1701795184.jpeg
END:VEVENT
END:VCALENDAR