BEGIN:VCALENDAR
VERSION:2.0
PRODID:-//Happy Smile Education - ECPv6.15.20//NONSGML v1.0//EN
CALSCALE:GREGORIAN
METHOD:PUBLISH
X-ORIGINAL-URL:https://happysmile.education
X-WR-CALDESC:Мероприятия для Happy Smile Education
REFRESH-INTERVAL;VALUE=DURATION:PT1H
X-Robots-Tag:noindex
X-PUBLISHED-TTL:PT1H
BEGIN:VTIMEZONE
TZID:Europe/Moscow
BEGIN:STANDARD
TZOFFSETFROM:+0300
TZOFFSETTO:+0300
TZNAME:MSK
DTSTART:20250101T000000
END:STANDARD
END:VTIMEZONE
BEGIN:VEVENT
DTSTART;TZID=Europe/Moscow:20260314T110000
DTEND;TZID=Europe/Moscow:20260314T150000
DTSTAMP:20260422T004336
CREATED:20260207T064849Z
LAST-MODIFIED:20260207T121936Z
UID:3799-1773486000-1773500400@happysmile.education
SUMMARY:Презентация индивидуальных эластопозиционеров Demos Smart Smile
DESCRIPTION:http://happysmile.education/wp-content/uploads/2026/02/2026-02-07-15.17.34.mp4\nПрезентация индивидуального эластопозиционера Demos Smart Smile!\nИдем в ногу со временем и хотим познакомить вас с современным и эффективным аппаратом для коррекции зубочелюстных аномалий у детей! \n🔵 В субботу\, 14 марта\, в Demos Buro состоится закрытая презентация для практикующих врачей-ортодонтов. В центре внимания будут эластопозиционеры Demos Smart Smile\, являющиеся эксклюзивной разработкой Demos Lab. \n🔵 Это идеальный аппарат для раннего ортодонтического лечения — современное решение\, которое дети действительно носят. Каждый эластопозиционер производится индивидуально для пациента на нашем собственном CAD/CAM производстве. \n✅Demos Smart Smile объединяет передовые технологии и проверенные ортодонтические принципы\, обеспечивая эффективность лечения и комфорт для маленьких пациентов. \n✅Индивидуальное изготовление уже давно вытеснило  стандартные аппараты на второй план\, а ношение двучелюстных аппаратов еще никогда не было настолько комфортным и эффективным 👍🏻 \n🔥 Уже более 5 лет ортодонты клиник Demos успешно работают на этих аппаратах\, и за это время у нас накопилось множество клинических случаев\, которыми мы и хотим с вами поделиться 😎 \n📝Программа: \n— Что такое индивидуальный эластопозиционер?\n— Этапы изготовления.\n— Как сделать заказ?\n— Показания к ношению\, его режим и сроки лечения.\n— Клинические случаи применения индивидуального эластопозиционера. \n👩🏻‍🏫Лекторы: Сатина Анна Андреевна\, Егорова Ксения Алексеевна \n⏰ 14.03.2026 11.00-15.00 \n📍Санкт-Петербург\, наб. реки Мойки 37\, 4 этаж \n💰Участие БЕСПЛАТНОЕ\, а также ☕ и 🍪 \n⠀ \nДля участия можно оставить заявку в Демос Бюро:\n📍 Наб. реки Мойки\, 37\n🌐 demosburo.com\n📞 +7 (909) 580-60-80 \nПриобрести данный аппарат Вы можете в нашей лаборатории Demos Lab\, +79681880486\, ztl@demosmed.ru
URL:https://happysmile.education/event/%d0%bf%d1%80%d0%b5%d0%b7%d0%b5%d0%bd%d1%82%d0%b0%d1%86%d0%b8%d1%8f-%d0%b8%d0%bd%d0%b4%d0%b8%d0%b2%d0%b8%d0%b4%d1%83%d0%b0%d0%bb%d1%8c%d0%bd%d1%8b%d1%85-%d1%8d%d0%bb%d0%b0%d1%81%d1%82%d0%be%d0%bf-3/
LOCATION:Офис Demos Büro\, Набережная реки Мойки\, д. 37\, Санкт-Петербург\, Ленинградская область\, 191186
CATEGORIES:Ортодонтия
ATTACH;FMTTYPE=image/jpeg:https://happysmile.education/wp-content/uploads/2026/02/2026-02-07-15.15.39.jpg
END:VEVENT
BEGIN:VEVENT
DTSTART;TZID=Europe/Moscow:20260428T120000
DTEND;TZID=Europe/Moscow:20260428T140000
DTSTAMP:20260422T004336
CREATED:20260305T163805Z
LAST-MODIFIED:20260418T080811Z
UID:3817-1777377600-1777384800@happysmile.education
SUMMARY:Простая ортодонтия. Сложные изгибы на дугах
DESCRIPTION:Поговорим о видах и назначениях сложных изгибов на дугах ( кантилеверы\, джиги\, пружины)\, научимся делать их самостоятельно под руководством опытного ортодонта Ксении Егоровой — сертифицированного лектора группы компаний «ПУМПА»\, заведующей ортодонтического отделения сети клиник Демос. \n*При себе необходимо иметь инструменты для изгибания дуг. \n  \nОрганизационный взнос 1 500 руб. Количество мест ограничено. \n  \nЗапись по тел. +7 (812) 309-95-22 или +7 909-580-60-80  Telegram
URL:https://happysmile.education/event/%d0%bf%d1%80%d0%be%d1%81%d1%82%d0%b0%d1%8f-%d0%be%d1%80%d1%82%d0%be%d0%b4%d0%be%d0%bd%d1%82%d0%b8%d1%8f-%d1%81%d0%bb%d0%be%d0%b6%d0%bd%d1%8b%d0%b5-%d0%b8%d0%b7%d0%b3%d0%b8%d0%b1%d1%8b-%d0%bd%d0%b0-2/
LOCATION:Офис Demos Büro\, Набережная реки Мойки\, д. 37\, Санкт-Петербург\, Ленинградская область\, 191186
CATEGORIES:Все мероприятия,Ортодонтия,Практические курсы,Простая ортодонтия
ATTACH;FMTTYPE=image/png:https://happysmile.education/wp-content/uploads/2026/03/2026-04-18-11.02.48.png
ORGANIZER;CN="Happy smile education":MAILTO:smile@pumpagroup.ru
END:VEVENT
BEGIN:VEVENT
DTSTART;TZID=Europe/Moscow:20260529T100000
DTEND;TZID=Europe/Moscow:20260530T180000
DTSTAMP:20260422T004336
CREATED:20240220T224043Z
LAST-MODIFIED:20260228T192721Z
UID:3602-1780048800-1780164000@happysmile.education
SUMMARY:ОРТОДОНТ + АРТИКУЛЯТОР
DESCRIPTION:Лектор — Наталия Апачиди \nПрограмма:\nТеория:\n✅ Принципы диагностики в концепции философии FACE;\n✅ Понятия СО и СR;\n✅ Центральное соотношение челюстей — зачем определять?!\n✅ Малый функциональный анализ и работа с MPI и др.! \nНа практике вы научитесь:\n✅ работать с артикулятором;\n✅ определять центральное соотношение;\n✅ работать с лицевой дугой;\n✅ интерпретировать полученные результаты и планировать лечение! \nНа практической части к каждой паре участников будет прикреплён опытный ассистент\, который будет помогать на всех этапах работы.\nИ\, да\, артикуляторов хватит всем. \nСТОИМОСТЬ УЧАСТИЯ: 75.000 рублей. \nДополнительные скидки не распространяются.
URL:https://happysmile.education/event/%d0%be%d1%80%d1%82%d0%be%d0%b4%d0%be%d0%bd%d1%82-%d0%b0%d1%80%d1%82%d0%b8%d0%ba%d1%83%d0%bb%d1%8f%d1%82%d0%be%d1%80-2/
LOCATION:Офис Demos Büro\, Набережная реки Мойки\, д. 37\, Санкт-Петербург\, Ленинградская область\, 191186
CATEGORIES:ВНЧС,Все мероприятия,Ортодонтия,Практические курсы
ATTACH;FMTTYPE=image/jpeg:https://happysmile.education/wp-content/uploads/2024/02/2026-02-27-22.12.06.jpg
ORGANIZER;CN="Happy smile education":MAILTO:smile@pumpagroup.ru
END:VEVENT
BEGIN:VEVENT
DTSTART;TZID=Europe/Moscow:20261127T100000
DTEND;TZID=Europe/Moscow:20261129T180000
DTSTAMP:20260422T004336
CREATED:20220616T142836Z
LAST-MODIFIED:20260228T195135Z
UID:1918-1795773600-1795975200@happysmile.education
SUMMARY:Биомеханика ортодонтического лечения: типодонт-курс
DESCRIPTION:27 ноября\n\n\n\n— Правила позиционирования брекет-системы.\n— Прямой и непрямой тип фиксации\, возможности цифровых технологий.\n— Прямая фиксация набора лигируемой системы на восковой типодонт\, установка замков и дуг.\n— Изготовление капы для непрямой фиксации с помощью сертифицированного силикона.\n— Выращенный цифровой шаблон для непрямой фиксации.\n\n\n\n\n28-29 ноября\n\n\n\nТеоретическая часть:\n— Основные понятия биомеханики.\n— Ремоделирование костной ткани и реакция пародонта во время ортодонтических перемещений.\n— Понятие центров ротации и сопротивления\, момента и силы.\n— Свойства ортодонтических дуг.\n— Биомеханика различных типов перемещений зубов.\n— Виды опоры.\n— Закрытие промежутков после удаления зубов.\nПрактическая часть (Работа на восковом типодонте: в режиме реального времени вы увидите перемещение зубов):\n— Как отрабатывают различные дуги\, как перемещаются зубы.\n— Упражнения изгибов базовых элементов (Т-петля \, Кантилеверы и тд. ) и изгибов первого\, второго и третьего порядка.\n— Использование приспособлений для перемещений зубов (эластической цепочки\, активных и пассивных задних подвязок\, закрывающих пружин).\n\nЛектор Наталия Апачиди — врач-стоматолог\, ортодонт. Практикующий врач-ортодонт\, клиницист с опытом более 20 лет\, выпускница двухгодичного курса FACE\, главврач МЦ Демос и ген.директор представительства ГК Пумпа в СПБ. Обучение и стажировка в клинике Бьерна Людвига (г. Трабен-Трарбах\, Германия)\, в клинике «Studio Cacciafesta» (Италия\, Милан)\, Ренато Коккони (Парма\, Милан). Последние несколько лет руководит медицинским центром\, имеющим в своем арсенале самое современное диагностическое и лечебное оборудование\, предназначенное для полной стоматологической реабилитации пациентов. Прошла более 50 курсов и практик в России и за рубежом.\nЛектор Ксения Егорова  — врач-стоматолог\, ортодонт\, сертифицированный лектор группы компаний «ПУМПА»\, заведующая ортодонтическим отделением медицинского центра Демос.\n\n\n\n\n\n\nСтоимость участия  по запросу. \nСкидки для компаний от 2х чел-10%\, от 3х-15%\, студентам и ординаторам -15% \nКоличество мест ограничено. Запись по телефону +7 (812) 309-95-22 или +7 909-580-60-80 Telegram
URL:https://happysmile.education/event/%d0%b1%d0%b8%d0%be%d0%bc%d0%b5%d1%85%d0%b0%d0%bd%d0%b8%d0%ba%d0%b0/
LOCATION:Офис Demos Büro\, Набережная реки Мойки\, д. 37\, Санкт-Петербург\, Ленинградская область\, 191186
CATEGORIES:Все мероприятия,Ортодонтия,Школа ортодонтии Наталии Апачиди
ATTACH;FMTTYPE=image/jpeg:https://happysmile.education/wp-content/uploads/2022/06/biomechanics.jpg
ORGANIZER;CN="Happy smile education":MAILTO:smile@pumpagroup.ru
END:VEVENT
END:VCALENDAR