BEGIN:VCALENDAR
VERSION:2.0
PRODID:-//Happy Smile Education - ECPv6.15.20//NONSGML v1.0//EN
CALSCALE:GREGORIAN
METHOD:PUBLISH
X-WR-CALNAME:Happy Smile Education
X-ORIGINAL-URL:https://happysmile.education
X-WR-CALDESC:Мероприятия для Happy Smile Education
REFRESH-INTERVAL;VALUE=DURATION:PT1H
X-Robots-Tag:noindex
X-PUBLISHED-TTL:PT1H
BEGIN:VTIMEZONE
TZID:Europe/Moscow
BEGIN:STANDARD
TZOFFSETFROM:+0300
TZOFFSETTO:+0300
TZNAME:MSK
DTSTART:20250101T000000
END:STANDARD
END:VTIMEZONE
BEGIN:VEVENT
DTSTART;TZID=Europe/Moscow:20261127T100000
DTEND;TZID=Europe/Moscow:20261129T180000
DTSTAMP:20260421T172803
CREATED:20220616T142836Z
LAST-MODIFIED:20260228T195135Z
UID:1918-1795773600-1795975200@happysmile.education
SUMMARY:Биомеханика ортодонтического лечения: типодонт-курс
DESCRIPTION:27 ноября\n\n\n\n— Правила позиционирования брекет-системы.\n— Прямой и непрямой тип фиксации\, возможности цифровых технологий.\n— Прямая фиксация набора лигируемой системы на восковой типодонт\, установка замков и дуг.\n— Изготовление капы для непрямой фиксации с помощью сертифицированного силикона.\n— Выращенный цифровой шаблон для непрямой фиксации.\n\n\n\n\n28-29 ноября\n\n\n\nТеоретическая часть:\n— Основные понятия биомеханики.\n— Ремоделирование костной ткани и реакция пародонта во время ортодонтических перемещений.\n— Понятие центров ротации и сопротивления\, момента и силы.\n— Свойства ортодонтических дуг.\n— Биомеханика различных типов перемещений зубов.\n— Виды опоры.\n— Закрытие промежутков после удаления зубов.\nПрактическая часть (Работа на восковом типодонте: в режиме реального времени вы увидите перемещение зубов):\n— Как отрабатывают различные дуги\, как перемещаются зубы.\n— Упражнения изгибов базовых элементов (Т-петля \, Кантилеверы и тд. ) и изгибов первого\, второго и третьего порядка.\n— Использование приспособлений для перемещений зубов (эластической цепочки\, активных и пассивных задних подвязок\, закрывающих пружин).\n\nЛектор Наталия Апачиди — врач-стоматолог\, ортодонт. Практикующий врач-ортодонт\, клиницист с опытом более 20 лет\, выпускница двухгодичного курса FACE\, главврач МЦ Демос и ген.директор представительства ГК Пумпа в СПБ. Обучение и стажировка в клинике Бьерна Людвига (г. Трабен-Трарбах\, Германия)\, в клинике «Studio Cacciafesta» (Италия\, Милан)\, Ренато Коккони (Парма\, Милан). Последние несколько лет руководит медицинским центром\, имеющим в своем арсенале самое современное диагностическое и лечебное оборудование\, предназначенное для полной стоматологической реабилитации пациентов. Прошла более 50 курсов и практик в России и за рубежом.\nЛектор Ксения Егорова  — врач-стоматолог\, ортодонт\, сертифицированный лектор группы компаний «ПУМПА»\, заведующая ортодонтическим отделением медицинского центра Демос.\n\n\n\n\n\n\nСтоимость участия  по запросу. \nСкидки для компаний от 2х чел-10%\, от 3х-15%\, студентам и ординаторам -15% \nКоличество мест ограничено. Запись по телефону +7 (812) 309-95-22 или +7 909-580-60-80 Telegram
URL:https://happysmile.education/event/%d0%b1%d0%b8%d0%be%d0%bc%d0%b5%d1%85%d0%b0%d0%bd%d0%b8%d0%ba%d0%b0/
LOCATION:Офис Demos Büro\, Набережная реки Мойки\, д. 37\, Санкт-Петербург\, Ленинградская область\, 191186
CATEGORIES:Все мероприятия,Ортодонтия,Школа ортодонтии Наталии Апачиди
ATTACH;FMTTYPE=image/jpeg:https://happysmile.education/wp-content/uploads/2022/06/biomechanics.jpg
ORGANIZER;CN="Happy smile education":MAILTO:smile@pumpagroup.ru
END:VEVENT
END:VCALENDAR