BEGIN:VCALENDAR
VERSION:2.0
PRODID:-//Happy Smile Education - ECPv6.15.20//NONSGML v1.0//EN
CALSCALE:GREGORIAN
METHOD:PUBLISH
X-WR-CALNAME:Happy Smile Education
X-ORIGINAL-URL:https://happysmile.education
X-WR-CALDESC:Мероприятия для Happy Smile Education
REFRESH-INTERVAL;VALUE=DURATION:PT1H
X-Robots-Tag:noindex
X-PUBLISHED-TTL:PT1H
BEGIN:VTIMEZONE
TZID:Europe/Moscow
BEGIN:STANDARD
TZOFFSETFROM:+0300
TZOFFSETTO:+0300
TZNAME:MSK
DTSTART:20230101T000000
END:STANDARD
END:VTIMEZONE
BEGIN:VEVENT
DTSTART;TZID=Europe/Moscow:20251125T120000
DTEND;TZID=Europe/Moscow:20251125T140000
DTSTAMP:20260422T023650
CREATED:20251013T080514Z
LAST-MODIFIED:20251105T100108Z
UID:3754-1764072000-1764079200@happysmile.education
SUMMARY:Простая ортодонтия. Сложные изгибы на дугах
DESCRIPTION:Поговорим о видах и назначениях сложных изгибов на дугах ( кантилеверы\, джиги\, пружины)\, научимся делать их самостоятельно под руководством опытного ортодонта Ксении Егоровой — сертифицированного лектора группы компаний «ПУМПА»\, заведующей ортодонтического отделения сети клиник Демос. \n*При себе необходимо иметь инструменты для изгибания дуг. \n  \nОрганизационный взнос 1 500 руб. Количество мест ограничено. \n  \nЗапись по тел. +7 (812) 309-95-22 или +7 909-580-60-80 WhatsApp\, Telegram
URL:https://happysmile.education/event/%d0%bf%d1%80%d0%be%d1%81%d1%82%d0%b0%d1%8f-%d0%be%d1%80%d1%82%d0%be%d0%b4%d0%be%d0%bd%d1%82%d0%b8%d1%8f-%d1%81%d0%bb%d0%be%d0%b6%d0%bd%d1%8b%d0%b5-%d0%b8%d0%b7%d0%b3%d0%b8%d0%b1%d1%8b-%d0%bd%d0%b0/
LOCATION:Офис Demos Büro\, Набережная реки Мойки\, д. 37\, Санкт-Петербург\, Ленинградская область\, 191186
CATEGORIES:Все мероприятия,Ортодонтия,Практические курсы,Простая ортодонтия
ATTACH;FMTTYPE=image/jpeg:https://happysmile.education/wp-content/uploads/2025/10/сложные-изгибы.jpg
ORGANIZER;CN="Happy smile education":MAILTO:smile@pumpagroup.ru
END:VEVENT
BEGIN:VEVENT
DTSTART;TZID=Europe/Moscow:20250708T120000
DTEND;TZID=Europe/Moscow:20250708T140000
DTSTAMP:20260422T023650
CREATED:20250422T164908Z
LAST-MODIFIED:20250422T164908Z
UID:3733-1751976000-1751983200@happysmile.education
SUMMARY:Простые изгибы
DESCRIPTION:Лектор — Ксения Егорова \nХотите научиться делать изгибы на дугах? \nПриглашаем 📍8 июля 12:00-14:00 потренироваться под руководством опытного ортодонта Ксении Егоровой 👍🏻\nПоговорим о видах простых изгибов ( 1\,2\,3 порядки ) и назначениях изгибов на дугах\, научимся делать их самостоятельно. \n*При себе необходимо иметь инструменты для изгибания дуг. \nОрганизационный взнос 1 500 руб. Количество мест ограничено.
URL:https://happysmile.education/event/%d0%bf%d1%80%d0%be%d1%81%d1%82%d1%8b%d0%b5-%d0%b8%d0%b7%d0%b3%d0%b8%d0%b1%d1%8b/
LOCATION:Офис Demos Büro\, Набережная реки Мойки\, д. 37\, Санкт-Петербург\, Ленинградская область\, 191186
CATEGORIES:Все мероприятия,Ортодонтия,Практические курсы,Простая ортодонтия
ATTACH;FMTTYPE=application/pdf:https://happysmile.education/wp-content/uploads/2025/04/простые-изгибы-8-июля.pdf
ORGANIZER;CN="Happy smile education":MAILTO:smile@pumpagroup.ru
END:VEVENT
BEGIN:VEVENT
DTSTART;TZID=Europe/Moscow:20241116T100000
DTEND;TZID=Europe/Moscow:20241116T180000
DTSTAMP:20260422T023650
CREATED:20240220T232104Z
LAST-MODIFIED:20240330T000608Z
UID:3619-1731751200-1731780000@happysmile.education
SUMMARY:Лечение детей: кого\, когда\, зачем?
DESCRIPTION:Лектор Малахова Наталья — ассистент кафедры стоматологии общей практики СЗГМУ им. И.И. Мечникова\, стоматолог-ортодонт. \n  \nВ настоящее время ортодонтическое лечение детей становится особенно популярным. Успешные результаты лечения внушают врачам и пациентам веру в эффективность и целесообразность превентивного лечения. Однако для ортодонтического лечения детей невозможно знать и понимать исключительно биомеханику перемещения зубов. Требуется стратегическое мышление и понимание этиопатогенеза зубочелюстных аномалий\, причины развития которых начинаются с самого рождения. \nНа семинаре будут: \n• структурированы причины развития зубочелюстных аномалий\n• сделан акцент на значимых факторах\, определяющих формирование окклюзии зубных рядов\n• всегда ли «кривые» зубы надо выравнивать\, и о чем это говорит\n• основные стратегические направления в раннем ортодонтическом лечении – аппаратура\n• объем диагностического обследования у детей\n• современные тренды и что с этим делать\n• временные сроки раннего ортодонтического лечения\, общение с родителями\nСтоимость: 22000 рублей. \nСкидки для компаний от 2х чел-10%\, от 3х-15%\, студентам и ординаторам -15%
URL:https://happysmile.education/event/%d0%bb%d0%b5%d1%87%d0%b5%d0%bd%d0%b8%d0%b5-%d0%b4%d0%b5%d1%82%d0%b5%d0%b9-%d0%ba%d0%be%d0%b3%d0%be-%d0%ba%d0%be%d0%b3%d0%b4%d0%b0-%d0%b7%d0%b0%d1%87%d0%b5%d0%bc/
LOCATION:Ленинградская область
CATEGORIES:Все мероприятия,Ортодонтия
ATTACH;FMTTYPE=image/jpeg:https://happysmile.education/wp-content/uploads/2022/10/msg498358970-61001.jpg
END:VEVENT
BEGIN:VEVENT
DTSTART;TZID=Europe/Moscow:20241108T100000
DTEND;TZID=Europe/Moscow:20241108T180000
DTSTAMP:20260422T023650
CREATED:20221209T205913Z
LAST-MODIFIED:20240227T231351Z
UID:3091-1731060000-1731088800@happysmile.education
SUMMARY:АЛГОРИТМЫ ЛЕЧЕНИЯ РАЗЛИЧНЫХ ВИДОВ АНОМАЛИЙ ОККЛЮЗИИ
DESCRIPTION:Лектор: Екатерина Кирсанова \nОпределение подходов к лечению различных форм аномалий окклюзии у растущих и взрослых пациентов\, отработка методик выбора дизайна аппаратуры в зависимости от клинической ситуации и цели лечения. \n\n\n\n\n\n\nХарактеристика нормоокклюзии\, признаки физиологической окклюзии\, «ключи окклюзии» по Andrews.\nКритерии оценки окклюзии и эстетики улыбки после проведенного ортодонтического лечения.\nАномалии окклюзии в сагиттальной плоскости (дисто-\, мезиоокклюзия).\nАномалии окклюзии в вертикальной плоскости (глубокое перекрытие\, травмирующая окклюзия\, вертикальная дизокклюзия).\nПринципы лечения\, алгоритмы замены назубных дуг.\nВыбор основной и дополнительной аппаратуры.\nАномалии окклюзии в трансверзальной плоскости (перекрестная окклюзия).\nПринципы лечения\, алгоритмы замены назубных дуг.\nВыбор основной и дополнительной аппаратуры.\nПринципы работы с сегментарными и многопетлевыми дугами.\n\n\nСТОИМОСТЬ УЧАСТИЯ: 35 000 руб.\nСкидка 35% студентам и ординаторам\, 30% компаниям от 3 докторов\, 20% для двух докторов. \n\nДля получения скидок просим связаться с нами  по телефону +7 (812) 309-95-22 или WhatsApp
URL:https://happysmile.education/event/%d0%b0%d0%bb%d0%b3%d0%be%d1%80%d0%b8%d1%82%d0%bc%d1%8b-%d0%bb%d0%b5%d1%87%d0%b5%d0%bd%d0%b8%d1%8f-%d1%80%d0%b0%d0%b7%d0%bb%d0%b8%d1%87%d0%bd%d1%8b%d1%85-%d0%b2%d0%b8%d0%b4%d0%be%d0%b2-%d0%b0%d0%bd/
LOCATION:Офис Demos Büro\, Набережная реки Мойки\, д. 37\, Санкт-Петербург\, Ленинградская область\, 191186
CATEGORIES:Все мероприятия,Ортодонтия
ATTACH;FMTTYPE=image/jpeg:https://happysmile.education/wp-content/uploads/2022/10/msg498358970-60996.jpg
ORGANIZER;CN="Happy smile education":MAILTO:smile@pumpagroup.ru
END:VEVENT
BEGIN:VEVENT
DTSTART;TZID=Europe/Moscow:20241023T100000
DTEND;TZID=Europe/Moscow:20241023T180000
DTSTAMP:20260422T023650
CREATED:20220312T040003Z
LAST-MODIFIED:20240220T232700Z
UID:1792-1729677600-1729706400@happysmile.education
SUMMARY:Курс "Кортикальная опора"
DESCRIPTION:В ПРОГРАММЕ: \n✅ Как перестать бояться и начать получать хорошие результаты от использования скелетной опоры и как мотивировать пациента на лечение с ее применением.\n✅ Виды кортикальной опоры и возможности применения в различных клинических ситуациях.\n✅ Правильный выбор типа\, размера и дизайна минивинтов.\n✅ Планирование и методы постановки минивинтов для стабильности\, избежание осложнений и успешного качественного результата лечения.\n✅ В каких клинических ситуациях минивинты являются приоритетным выбором в создании опоры для перемещения.\n✅ Осуществление мезио-дистальных перемещений\, интрузии и экструзии зубов с применением скелетной опоры. Создание вертикального контроля у брахифациальных пациентов. Трансверзальная коррекция перекрестного прикуса и коррекция асимметрий. Применение скелетной опоры при лечении II и III Класса по Энглю.\n✅ Особенности работы аппаратами типа «Hyrex» с опорой на минивинты.\n✅ Практическая часть — отработка мануальной и машинной установки минивинтов на типодонтах и свинной челюсти. \n  \nЛектор Наталия Апачиди — врач-стоматолог\, ортодонт. Клиницист с опытом работы по специальности более 20 лет. Обучение и стажировка в клинике Бьерна Людвига (г. Трабен-Трарбах\, Германия)\, в клинике «Studio Cacciafesta» (Италия\, Милан).\nВладеет методиками ортодонтического лечения с применением всех видов аппаратуры. Последние несколько лет руководит медицинским центром\, имеющим в своем арсенале самое современное диагностическое и лечебное оборудование\, предназначенное для полной стоматологической реабилитации пациентов. Выпускница двухгодичного курса FACE. Основатель медицинского центра Демос в Санкт-Петербурге\, руководитель филиала ГК Пумпа в Санкт-Петербурге. \n  \nСтоимость участия: 23500 рублей \nОбратите внимание скидки для компаний от 2-х чел-10%\, от 3х-15%\, студентам и ординаторам-15%. Скидки не суммируются. \nКоличество мест ограничено. Запись по телефону +7 (812) 309-95-22 или +7 909-580-60-80 WhatsApp\, Telegram
URL:https://happysmile.education/event/%d0%ba%d0%be%d1%80%d1%82%d0%b8%d0%ba%d0%b0%d0%bb%d1%8c%d0%bd%d0%b0%d1%8f-%d0%be%d0%bf%d0%be%d1%80%d0%b0-%d0%bf%d1%80%d0%b0%d0%ba%d1%82%d0%b8%d1%87%d0%b5%d1%81%d0%ba%d0%b8%d0%b9-%d0%ba%d1%83%d1%80/
LOCATION:Офис Demos Büro\, Набережная реки Мойки\, д. 37\, Санкт-Петербург\, Ленинградская область\, 191186
CATEGORIES:Все мероприятия,Ортодонтия,Хирургия
ATTACH;FMTTYPE=image/jpeg:https://happysmile.education/wp-content/uploads/2022/10/msg498358970-60995.jpg
ORGANIZER;CN="Happy smile education":MAILTO:smile@pumpagroup.ru
END:VEVENT
BEGIN:VEVENT
DTSTART;TZID=Europe/Moscow:20240920T100000
DTEND;TZID=Europe/Moscow:20240920T180000
DTSTAMP:20260422T023650
CREATED:20230523T223007Z
LAST-MODIFIED:20240220T232724Z
UID:3270-1726826400-1726855200@happysmile.education
SUMMARY:Курс "Лечение мезиального прикуса"
DESCRIPTION:В ПРОГРАММЕ:\n✅ Определение\, классификация\, распространенность\, этиология и патогенез.\n✅ Тип роста лицевого скелета при аномалии III класса.\n✅ Данные ТРГ\, клиническая картина: особенности строения лица\, характер смыкания зубных рядов.\n✅ Лечение мезиального прикуса в детском\, подростковом возрастах\, взрослых пациентов.\n✅ Аппараты механического и функционального действия.\n✅ Лицевая маска в сочетании с минивинтами и RPE.\n✅ Вертикальный контроль и скелетная опора на нижней челюсти\, возможна ли дистализация на нижней челюсти.\n✅ Когда удалять зубы мудрости у растущего пациента\, приходит ли на помощь компьютерная томография?\n✅ Аппаратурно-хирургический метод лечения.\n✅ Применение микро-имплантатов.\n✅ Можно ли удалять на нижней челюсти и в каком возрасте (боимся ли мы ретруссии\, резорбции\, ухудшения профиля лица)?\n✅ Компромиссное лечение — хорошо ли оно для врача? Хорошо ли оно для пациента?\n✅ Нужно ли обращать внимание на сустав? \nЛектор Фадеева Мария Романовна — врач-ортодонт\, ортопед ассистент кафедры стоматологии НовГУ им. Ярослава Мудрого\, к.м.н. \nСтоимость участия: 22000 рублей \nОбратите внимание скидки для компаний от 2-х чел-10%\, от 3х-15%\, студентам и ординаторам-15%. Скидки не суммируются. \nКоличество мест ограничено. Запись по телефону +7 (812) 309-95-22 или +7 909-580-60-80 WhatsApp\, Telegram \n\n 
URL:https://happysmile.education/event/%d0%bb%d0%b5%d1%87%d0%b5%d0%bd%d0%b8%d0%b5-%d0%bc%d0%b5%d0%b7%d0%b8%d0%b0%d0%bb%d1%8c%d0%bd%d0%be%d0%b3%d0%be-%d0%bf%d1%80%d0%b8%d0%ba%d1%83%d1%81%d0%b0/
LOCATION:Офис Demos Büro\, Набережная реки Мойки\, д. 37\, Санкт-Петербург\, Ленинградская область\, 191186
CATEGORIES:Все мероприятия,Ортодонтия
ATTACH;FMTTYPE=image/jpeg:https://happysmile.education/wp-content/uploads/2022/10/msg498358970-61000.jpg
ORGANIZER;CN="Happy smile education":MAILTO:smile@pumpagroup.ru
END:VEVENT
BEGIN:VEVENT
DTSTART;TZID=Europe/Moscow:20240607T100000
DTEND;TZID=Europe/Moscow:20240608T180000
DTSTAMP:20260422T023650
CREATED:20221016T114012Z
LAST-MODIFIED:20240220T223734Z
UID:2954-1717754400-1717869600@happysmile.education
SUMMARY:ОРТОДОНТ + АРТИКУЛЯТОР
DESCRIPTION:Лектор — Наталия Апачиди \nПрограмма:\nТеория:\n✅ Принципы диагностики в концепции философии FACE;\n✅ Понятия СО и СR;\n✅ Центральное соотношение челюстей — зачем определять?!\n✅ Малый функциональный анализ и работа с MPI и др.! \nНа практике вы научитесь:\n✅ работать с артикулятором;\n✅ определять центральное соотношение;\n✅ работать с лицевой дугой;\n✅ интерпретировать полученные результаты и планировать лечение! \nНа практической части к каждой паре участников будет прикреплён опытный ассистент\, который будет помогать на всех этапах работы.\nИ\, да\, артикуляторов хватит всем. \nСТОИМОСТЬ УЧАСТИЯ: 73.800 рублей. \nЕсть возможность отдельного посещения теоретического дня ( 23.000 руб. ) и практического дня ( 59.000 руб. ) \nДополнительные скидки не распространяются. \nПодробнее о мероприятии по ссылке.
URL:https://happysmile.education/event/%d0%be%d1%80%d1%82%d0%be%d0%b4%d0%be%d0%bd%d1%82-%d0%b0%d1%80%d1%82%d0%b8%d0%ba%d1%83%d0%bb%d1%8f%d1%82%d0%be%d1%80/
LOCATION:Офис Demos Büro\, Набережная реки Мойки\, д. 37\, Санкт-Петербург\, Ленинградская область\, 191186
CATEGORIES:ВНЧС,Все мероприятия,Ортодонтия,Практические курсы
ATTACH;FMTTYPE=image/jpeg:https://happysmile.education/wp-content/uploads/2022/10/msg498358970-60997.jpg
ORGANIZER;CN="Happy smile education":MAILTO:smile@pumpagroup.ru
END:VEVENT
BEGIN:VEVENT
DTSTART;TZID=Europe/Moscow:20240522T100000
DTEND;TZID=Europe/Moscow:20240522T140000
DTSTAMP:20260422T023650
CREATED:20240227T232827Z
LAST-MODIFIED:20240227T232827Z
UID:3636-1716372000-1716386400@happysmile.education
SUMMARY:Остеопатия в ортодонтии. Завтрак с Пумпой
DESCRIPTION:Лекторы: \nНаталия Апачиди\nВероника Гареева — Врач-остеопат многопрофильной стоматологии Демос в Санкт-Петербурге\, Преподаватель краниального раздела остеопатии в Северо-западной академии остеопатии и медицинской психологии. \nПосещение БЕСПЛАТНОЕ. Количество мест ограничено!
URL:https://happysmile.education/event/%d0%be%d1%81%d1%82%d0%b5%d0%be%d0%bf%d0%b0%d1%82%d0%b8%d1%8f-%d0%b2-%d0%be%d1%80%d1%82%d0%be%d0%b4%d0%be%d0%bd%d1%82%d0%b8%d0%b8-%d0%b7%d0%b0%d0%b2%d1%82%d1%80%d0%b0%d0%ba-%d1%81-%d0%bf%d1%83%d0%bc/
LOCATION:Офис Demos Büro\, Набережная реки Мойки\, д. 37\, Санкт-Петербург\, Ленинградская область\, 191186
CATEGORIES:ВНЧС,Все мероприятия,Междисциплинарное лечение,Ортодонтия,Практические курсы
ATTACH;FMTTYPE=image/png:https://happysmile.education/wp-content/uploads/2024/02/569E82C2-2B50-4364-B823-35B05DFDCC3C.png
ORGANIZER;CN="Happy smile education":MAILTO:smile@pumpagroup.ru
END:VEVENT
BEGIN:VEVENT
DTSTART;TZID=Europe/Moscow:20240517T100000
DTEND;TZID=Europe/Moscow:20240518T180000
DTSTAMP:20260422T023650
CREATED:20230605T224740Z
LAST-MODIFIED:20240227T231555Z
UID:3461-1715940000-1716055200@happysmile.education
SUMMARY:Ортодонтическое лечение пациентов с патологией парадонта
DESCRIPTION:ПРОГРАММА: \n✅Строение пародонта. Анатомия и физиология поддерживающего аппарата зуба. Понятие и значение биологической ширины и десневого фенотипа. Строение альвеолярной кости и ее реакция в условиях нормального функционирования\, при патологии окклюзии и во время ортодонтического лечения. Воспалительные и невоспалительные заболевания пародонта. Классификация\, этиология\, патогенез\, связь с окклюзией и ортодонтическим лечением. Методы диагностики и определения пародонтологического статуса у пациентов с аномалиями окклюзии. Алгоритм комплексной реабилитации ортодонт-пародонтолог. Пародонтологическое сопровождение ортодонтического пациента. Эстетическая пародонтология – проксимальная сепарация\, гингивэктомия – показания\, порядок и методики проведения в рамках ортодонтического лечения. \n✅Пародонтальная хирургия в рамках комплексной реабилитации. Направленная регенерация костной ткани. \n✅Механика ортодонтического перемещения зубов с патологией пародонта. Понятие первичной и вторичной окклюзионной травмы\, ее профилактика в рамках ортодонтического лечения. Травматические повреждения твердых тканей зубов. \n✅Методика и алгоритм избирательного пришлифовывания как метода устранения окклюзионной травмы. \n✅Лечение пациентов с завершенным скелетным ростом\,  способы снижения риска пародонтальных осложнений\, отработка методик планирования ортодонтического лечения пациентов с атрофией пародонта\, изучение алгоритма междисциплинарного взаимодействия ортодонта и пародонтолога\, знаний и навыков проведения пародонтологического сопровождения ортодонтического пациента на всех этапах лечения. \n✅Определения соотношения твердых и мягких тканей пародонта\, диагностика\, составление алгоритма ортодонтического лечения\, исходя из пародонтального статуса пациента. Влияние положения отдельных зубов и групп зубов на состояние пародонта\, выбор механики их перемещения для улучшения пародонтологического статуса. Определение показаний к удалению отдельных зубов у пациентов с невоспалительными заболеваниями пародонта. \n✅Резорбция корня как осложнение и побочный эффект окклюзионной травмы и ортодонтических перемещений. Возможные пути профилактики осложнений. \nЛектор Кирсанова Екатерина -к.м.н.\, врач-стоматолог\, ортодонт. Доцент\, помощник зав. кафедрой стоматологии общей практики СЗГМУ им. И.И. Мечникова по учебной работе. Кандидатская диссертация на тему «Объем и последовательность ортодонтического лечения при костно-реконструктивном исправлении зубочелюстных аномалий и деформаций». С 2001 года проходила стажировки в Европе\, Америке у ведущих специалистов в области ортодонтии\, посетила более 50 семинаров\, как в качестве слушателя\, так и докладчика. Выпускница двухгодичного курса FACE. \nЛектор  Медведева Елена — к.м.н.\, врач-стоматолог\, терапевт\, пародонтолог. Ассистент кафедры стоматологии общей практики СЗГМУ им. И.И. Мечникова. \nСТОИМОСТЬ УЧАСТИЯ: 45000 рублей \nСкидки для компаний от 2х чел-10%\, от 3х-15%\, студентам и ординаторам -15% \nСвязь с менеджером: +7-909-580-60-80 WhatsApp\, Telegram
URL:https://happysmile.education/event/%d0%bf%d0%b0%d1%80%d0%be%d0%b4%d0%be%d0%bd%d1%82/
LOCATION:Офис Demos Büro\, Набережная реки Мойки\, д. 37\, Санкт-Петербург\, Ленинградская область\, 191186
CATEGORIES:Авторская резидентура,Все мероприятия,Междисциплинарное лечение,Ортодонтия,Пародонтология
ATTACH;FMTTYPE=image/jpeg:https://happysmile.education/wp-content/uploads/2022/10/msg498358970-60994.jpg
ORGANIZER;CN="Happy smile education":MAILTO:smile@pumpagroup.ru
END:VEVENT
BEGIN:VEVENT
DTSTART;TZID=Europe/Moscow:20240515T100000
DTEND;TZID=Europe/Moscow:20240515T180000
DTSTAMP:20260422T023650
CREATED:20240220T231945Z
LAST-MODIFIED:20240227T231727Z
UID:3617-1715767200-1715796000@happysmile.education
SUMMARY:Миофункциональные аппараты в эру цифровых технологий
DESCRIPTION:Стоимость: 22000 рублей. \nСкидки для компаний от 2х чел-10%\, от 3х-15%\, студентам и ординаторам -15%
URL:https://happysmile.education/event/%d0%bc%d0%b8%d0%be%d1%84%d1%83%d0%bd%d0%ba%d1%86%d0%b8%d0%be%d0%bd%d0%b0%d0%bb%d1%8c%d0%bd%d1%8b%d0%b5-%d0%b0%d0%bf%d0%bf%d0%b0%d1%80%d0%b0%d1%82%d1%8b-%d0%b2-%d1%8d%d1%80%d1%83-%d1%86%d0%b8%d1%84/
LOCATION:Ленинградская область
CATEGORIES:Все мероприятия,Ортодонтия
ATTACH;FMTTYPE=image/jpeg:https://happysmile.education/wp-content/uploads/2022/10/msg498358970-60999.jpg
END:VEVENT
BEGIN:VEVENT
DTSTART;TZID=Europe/Moscow:20240513T100000
DTEND;TZID=Europe/Moscow:20240513T180000
DTSTAMP:20260422T023650
CREATED:20240330T000134Z
LAST-MODIFIED:20240330T000358Z
UID:3656-1715594400-1715623200@happysmile.education
SUMMARY:Цифровое будущее ортодонтии уже сегодня
DESCRIPTION:❓Хочешь увидеть будущее ортодонтии?  \nНаслаждаться точностью и качеством исполнения ортодонтической аппаратуры\, процессом лечения и его результатом?  \nКогда каждый шаг предсказуем и ты уверен в себе и в своих решениях?  \nТы готов посмотреть иначе на ортодонтическое лечение?  \nМы хотим показать тебе нечто новое\, приоткрыть дверь в будущее!  \n На семинаре Марии Сайпеевой «Цифровое будущее ортодонтии уже сегодня» мы: \n ?поможем выйти на цифровой уровень и освоить новый эффективный инструмент \n ? продемонстрируем на клинических примерах преимущества индивидуальной аппаратуры FitFree \n ? разберем вопросы диагностики\, планирования лечения и проектирования внутриротовых аппаратов с кортикальной опорой \n  ?изучим особенности биомеханики при лечении на индивидуальной аппаратуре \n  ?уделим внимание взаимодействию с хирургом и особенностям установки индивидуальных аппаратов \n ❗Лови момент! Не упусти шанс оказаться в первых рядах! Время слишком быстро летит! \nПодробная информация на нашем сайте
URL:https://happysmile.education/event/%d1%86%d0%b8%d1%84%d1%80%d0%be%d0%b2%d0%be%d0%b5-%d0%b1%d1%83%d0%b4%d1%83%d1%89%d0%b5%d0%b5-%d0%be%d1%80%d1%82%d0%be%d0%b4%d0%be%d0%bd%d1%82%d0%b8%d0%b8-%d1%83%d0%b6%d0%b5-%d1%81%d0%b5%d0%b3%d0%be/
LOCATION:Санкт-Петербург\, Лермонтовский проспект\, 43/1  Азимут Отель Санкт-Петербург\, зал Мюнхен\, Лермонтовский проспект\, 43/1\, Санкт-Петербург\, Российская Федерация
CATEGORIES:Все мероприятия,Ортодонтия
ATTACH;FMTTYPE=image/jpeg:https://happysmile.education/wp-content/uploads/2024/03/3E6420A1-C276-4268-BFC9-02B4328FD59F.jpeg
END:VEVENT
BEGIN:VEVENT
DTSTART;TZID=Europe/Moscow:20240416T160000
DTEND;TZID=Europe/Moscow:20240416T180000
DTSTAMP:20260422T023650
CREATED:20221209T203059Z
LAST-MODIFIED:20240318T135538Z
UID:3079-1713283200-1713290400@happysmile.education
SUMMARY:Простая ортодонтия. Сложные изгибы на дугах
DESCRIPTION:Поговорим о видах и назначениях сложных изгибов на дугах ( кантилеверы\, джиги\, пружины)\, научимся делать их самостоятельно под руководством опытного ортодонта Ксении Егоровой — сертифицированого лектора группы компаний «ПУМПА»\, заведующей ортодонтического отделения сети клиник Демос. \n*При себе необходимо иметь инструменты для изгибания дуг. \n  \nОрганизационный взнос 1 500 руб. Количество мест ограничено. \n  \nЗапись по тел. +7 (812) 309-95-22 или +7 909-580-60-80 WhatsApp\, Telegram
URL:https://happysmile.education/event/%d0%bf%d1%80%d0%be%d1%81%d1%82%d0%b0%d1%8f-%d0%be%d1%80%d1%82%d0%be%d0%b4%d0%be%d0%bd%d1%82%d0%b8%d1%8f-%d0%b8%d0%b7%d0%b3%d0%b8%d0%b1%d1%8b-%d0%bd%d0%b0-%d0%b4%d1%83%d0%b3%d0%b0%d1%85/
LOCATION:Офис Demos Büro\, Набережная реки Мойки\, д. 37\, Санкт-Петербург\, Ленинградская область\, 191186
CATEGORIES:Все мероприятия,Ортодонтия,Практические курсы,Простая ортодонтия
ATTACH;FMTTYPE=image/png:https://happysmile.education/wp-content/uploads/2022/12/EFE34D9F-9BB2-46D9-8393-A850B2B0FD12.png
ORGANIZER;CN="Happy smile education":MAILTO:smile@pumpagroup.ru
END:VEVENT
BEGIN:VEVENT
DTSTART;TZID=Europe/Moscow:20240416T100000
DTEND;TZID=Europe/Moscow:20240416T140000
DTSTAMP:20260422T023650
CREATED:20230523T220400Z
LAST-MODIFIED:20240220T232856Z
UID:3264-1713261600-1713276000@happysmile.education
SUMMARY:Пропись Face. Завтрак с Пумпой
DESCRIPTION:16 апреля 10:00-14:00 пройдет встреча «Пропись Face» в рамках «Завтрака для ортодонтов». \nВ ПРОГРАММЕ: \n✅ краткий обзор основных прописей;\n✅ основные догмы философии Face;\n✅ ключевые особенности прописи Face;\n✅ разбор самолигирующих брекет-систем BioQuick и Quicklear\, возможности и достоинства этих систем;\n✅ почему торк на молярах так важен?!\n✅ клинические примеры;\n✅ вопросы и обсуждение. \n  \nЛектор Ксения Егорова — врач-стоматолог\, ортодонт. Заведующая ортодонтическим отделением медицинского центра Демос. \n  \nУчастие бесплатное\, количество мест ограничено! \nЗапись по тел. +7 (812) 309-95-22 или +7 909-580-60-80 WhatsApp\, Telegram
URL:https://happysmile.education/event/%d0%b7%d0%b0%d0%b2%d1%82%d1%80%d0%b0%d0%ba-%d1%81-%d0%bf%d1%83%d0%bc%d0%bf%d0%be%d0%b9-%d0%bf%d1%80%d0%be%d0%bf%d0%b8%d1%81%d1%8c-face-2/
LOCATION:Офис Demos Büro\, Набережная реки Мойки\, д. 37\, Санкт-Петербург\, Ленинградская область\, 191186
CATEGORIES:Все мероприятия,Ортодонтия
ATTACH;FMTTYPE=image/jpeg:https://happysmile.education/wp-content/uploads/2023/05/photo1708469005.jpeg
ORGANIZER;CN="Happy smile education":MAILTO:smile@pumpagroup.ru
END:VEVENT
BEGIN:VEVENT
DTSTART;TZID=Europe/Moscow:20240410T100000
DTEND;TZID=Europe/Moscow:20240410T180000
DTSTAMP:20260422T023650
CREATED:20230529T221051Z
LAST-MODIFIED:20240228T000516Z
UID:3301-1712743200-1712772000@happysmile.education
SUMMARY:Диагностика ортодонтического пациента
DESCRIPTION:ПРОГРАММА: \n✅ Необходимый клинический и рентгенологический минимум для ортодонта.\n✅ Введение в ТРГ и КТ.\n✅ Расчет моделей с помощью 3D диагностики.\n✅ Анализ фотопротокола.\n✅ Анализ ВНЧС и проходимости воздухоносных путей.\n✅ Введение в философии FACE. \n✅ Введение в работу с артикулятором.\n✅ 3D планирование – моделирование окклюзии на «старте» и «финише». \n  \nЛектор Наталия Апачиди — врач-стоматолог\, ортодонт. Клиницист с опытом работы по специальности более 20 лет. Обучение и стажировка в клинике Бьерна Людвига (г. Трабен-Трарбах\, Германия)\, в клинике «Studio Cacciafesta» (Италия\, Милан).\nВладеет методиками ортодонтического лечения с применением всех видов аппаратуры. Последние несколько лет руководит медицинским центром\, имеющим в своем арсенале самое современное диагностическое и лечебное оборудование\, предназначенное для полной стоматологической реабилитации пациентов. Выпускница двухгодичного курса FACE. Основатель медицинского центра Демос в Санкт-Петербурге\, руководитель филиала ГК Пумпа в Санкт-Петербурге. \n  \nКоличество мест ограничено. Запись по телефону +7 (812) 309-95-22 или +7 909-580-60-80 WhatsApp\, Telegram
URL:https://happysmile.education/event/%d0%b4%d0%b8%d0%b0%d0%b3%d0%bd%d0%be%d1%81%d1%82%d0%b8%d0%ba%d0%b0-%d0%b2-%d0%be%d1%80%d1%82%d0%be%d0%b4%d0%be%d0%bd%d1%82%d0%b8%d0%b8-2/
LOCATION:Офис Demos Büro\, Набережная реки Мойки\, д. 37\, Санкт-Петербург\, Ленинградская область\, 191186
CATEGORIES:Все мероприятия,Ортодонтия,Практические курсы,Школа ортодонтии Наталии Апачиди
ATTACH;FMTTYPE=image/png:https://happysmile.education/wp-content/uploads/2023/05/A41C9C59-85F3-412F-AB0A-F45103779988.png
ORGANIZER;CN="Happy smile education":MAILTO:smile@pumpagroup.ru
END:VEVENT
BEGIN:VEVENT
DTSTART;TZID=Europe/Moscow:20240320T150000
DTEND;TZID=Europe/Moscow:20240320T200000
DTSTAMP:20260422T023650
CREATED:20221012T221428Z
LAST-MODIFIED:20240220T232924Z
UID:2910-1710946800-1710964800@happysmile.education
SUMMARY:Самостоятельное планирование элайнеров. Офис-курс
DESCRIPTION:Лектор — Анна Сатина\nОфис-курс включает в себя:\n✔️Обзор программного обеспечения в сфере планирования элайнеров\, технологические требования клиники для изготовления элайнеров\n✔️Непосредственная работа с программами\, создание set up модели\n✔️Методики перемещения зубных рядов\, виды перемещений и их последовательность\n✔️Лайфхаки лечения пациентов на элайнерах\n✔️Технология изготовления элайнеров от сканирования пациента до обжатие кап\, обзор необходимого технического оборудования\n✔️Разбор интересующих вопросов\nСТОИМОСТЬ УЧАСТИЯ: 12 000 руб.\nСкидка 35% студентам и ординаторам\, 30% компаниям от 3 докторов\, 20% для двух докторов.
URL:https://happysmile.education/event/%d1%81%d0%b0%d0%bc%d0%be%d1%81%d1%82%d0%be%d1%8f%d1%82%d0%b5%d0%bb%d1%8c%d0%bd%d0%be%d0%b5-%d0%bf%d0%bb%d0%b0%d0%bd%d0%b8%d1%80%d0%be%d0%b2%d0%b0%d0%bd%d0%b8%d0%b5-%d1%8d%d0%bb%d0%b0%d0%b9%d0%bd%d0%b5/
LOCATION:Ленинградская область
CATEGORIES:Все мероприятия,Ортодонтия,Практические курсы,Элайнеры
ATTACH;FMTTYPE=image/jpeg:https://happysmile.education/wp-content/uploads/2022/10/msg498358970-60992.jpg
END:VEVENT
END:VCALENDAR